BEGIN:VCALENDAR
VERSION:2.0
PRODID:-//Kindergarten St. Elisabeth - ECPv6.15.17//NONSGML v1.0//EN
CALSCALE:GREGORIAN
METHOD:PUBLISH
X-ORIGINAL-URL:https://www.kiga-st-elisabeth-schweinfurt.de
X-WR-CALDESC:Veranstaltungen für Kindergarten St. Elisabeth
REFRESH-INTERVAL;VALUE=DURATION:PT1H
X-Robots-Tag:noindex
X-PUBLISHED-TTL:PT1H
BEGIN:VTIMEZONE
TZID:Europe/Berlin
BEGIN:DAYLIGHT
TZOFFSETFROM:+0100
TZOFFSETTO:+0200
TZNAME:CEST
DTSTART:20230326T010000
END:DAYLIGHT
BEGIN:STANDARD
TZOFFSETFROM:+0200
TZOFFSETTO:+0100
TZNAME:CET
DTSTART:20231029T010000
END:STANDARD
BEGIN:DAYLIGHT
TZOFFSETFROM:+0100
TZOFFSETTO:+0200
TZNAME:CEST
DTSTART:20240331T010000
END:DAYLIGHT
BEGIN:STANDARD
TZOFFSETFROM:+0200
TZOFFSETTO:+0100
TZNAME:CET
DTSTART:20241027T010000
END:STANDARD
BEGIN:DAYLIGHT
TZOFFSETFROM:+0100
TZOFFSETTO:+0200
TZNAME:CEST
DTSTART:20250330T010000
END:DAYLIGHT
BEGIN:STANDARD
TZOFFSETFROM:+0200
TZOFFSETTO:+0100
TZNAME:CET
DTSTART:20251026T010000
END:STANDARD
BEGIN:DAYLIGHT
TZOFFSETFROM:+0100
TZOFFSETTO:+0200
TZNAME:CEST
DTSTART:20260329T010000
END:DAYLIGHT
BEGIN:STANDARD
TZOFFSETFROM:+0200
TZOFFSETTO:+0100
TZNAME:CET
DTSTART:20261025T010000
END:STANDARD
BEGIN:DAYLIGHT
TZOFFSETFROM:+0100
TZOFFSETTO:+0200
TZNAME:CEST
DTSTART:20270328T010000
END:DAYLIGHT
BEGIN:STANDARD
TZOFFSETFROM:+0200
TZOFFSETTO:+0100
TZNAME:CET
DTSTART:20271031T010000
END:STANDARD
END:VTIMEZONE
BEGIN:VEVENT
DTSTART;TZID=Europe/Berlin:20260406T000000
DTEND;TZID=Europe/Berlin:20260406T000000
DTSTAMP:20260419T151655
CREATED:20240129T112557Z
LAST-MODIFIED:20250912T121504Z
UID:10000002-1775433600-1775433600@www.kiga-st-elisabeth-schweinfurt.de
SUMMARY:Ostermontag Feiertag - der Kindergarten ist geschlossen
DESCRIPTION:
URL:https://www.kiga-st-elisabeth-schweinfurt.de/event/ostermontag-feiertag/
LOCATION:Kindergarten St. Elisabeth
END:VEVENT
BEGIN:VEVENT
DTSTART;VALUE=DATE:20260403
DTEND;VALUE=DATE:20260404
DTSTAMP:20260419T151655
CREATED:20250912T114140Z
LAST-MODIFIED:20250912T121021Z
UID:10000034-1775174400-1775260799@www.kiga-st-elisabeth-schweinfurt.de
SUMMARY:Karfreitag Feiertag- der Kindergarten ist geschlossen
DESCRIPTION:
URL:https://www.kiga-st-elisabeth-schweinfurt.de/event/feiertag-der-kindergarten-ist-geschlossen/
END:VEVENT
BEGIN:VEVENT
DTSTART;TZID=Europe/Berlin:20260402T083000
DTEND;TZID=Europe/Berlin:20260402T120000
DTSTAMP:20260419T151655
CREATED:20250912T115514Z
LAST-MODIFIED:20250912T122130Z
UID:10000042-1775118600-1775131200@www.kiga-st-elisabeth-schweinfurt.de
SUMMARY:Gründonnerstag der Osterhase kommt in den Kindergarten
DESCRIPTION:
URL:https://www.kiga-st-elisabeth-schweinfurt.de/event/der-osterhase-kommt-in-den-kindergarten/
END:VEVENT
BEGIN:VEVENT
DTSTART;TZID=Europe/Berlin:20260401T083000
DTEND;TZID=Europe/Berlin:20260401T113000
DTSTAMP:20260419T151655
CREATED:20250912T115405Z
LAST-MODIFIED:20250912T115405Z
UID:10000041-1775032200-1775043000@www.kiga-st-elisabeth-schweinfurt.de
SUMMARY:Ostergottesdienst im Kindergarten
DESCRIPTION:
URL:https://www.kiga-st-elisabeth-schweinfurt.de/event/ostergottesdienst-im-kindergarten/
END:VEVENT
BEGIN:VEVENT
DTSTART;TZID=Europe/Berlin:20260303T100000
DTEND;TZID=Europe/Berlin:20260303T120000
DTSTAMP:20260419T151655
CREATED:20250912T115241Z
LAST-MODIFIED:20250912T115241Z
UID:10000040-1772532000-1772539200@www.kiga-st-elisabeth-schweinfurt.de
SUMMARY:Korbtheater für die Regelgruppen
DESCRIPTION:
URL:https://www.kiga-st-elisabeth-schweinfurt.de/event/korbtheater-fuer-die-regelgruppen/
END:VEVENT
BEGIN:VEVENT
DTSTART;TZID=Europe/Berlin:20260218T090000
DTEND;TZID=Europe/Berlin:20260218T110000
DTSTAMP:20260419T151655
CREATED:20250912T115058Z
LAST-MODIFIED:20250912T115058Z
UID:10000039-1771405200-1771412400@www.kiga-st-elisabeth-schweinfurt.de
SUMMARY:Aschermittwoch - Aschenkreuz
DESCRIPTION:
URL:https://www.kiga-st-elisabeth-schweinfurt.de/event/aschermittwoch-aschenkreuz/
END:VEVENT
BEGIN:VEVENT
DTSTART;TZID=Europe/Berlin:20260217T083000
DTEND;TZID=Europe/Berlin:20260217T113000
DTSTAMP:20260419T151655
CREATED:20250912T114722Z
LAST-MODIFIED:20250912T114902Z
UID:10000038-1771317000-1771327800@www.kiga-st-elisabeth-schweinfurt.de
SUMMARY:Faschingsfeier im Kindergarten
DESCRIPTION:
URL:https://www.kiga-st-elisabeth-schweinfurt.de/event/faschingsfeier-im-kindergarten/
END:VEVENT
BEGIN:VEVENT
DTSTART;TZID=Europe/Berlin:20260216T080000
DTEND;TZID=Europe/Berlin:20260216T113000
DTSTAMP:20260419T151655
CREATED:20250912T114619Z
LAST-MODIFIED:20250912T114619Z
UID:10000037-1771228800-1771241400@www.kiga-st-elisabeth-schweinfurt.de
SUMMARY:Fasching im Kindergarten - Schminktag
DESCRIPTION:
URL:https://www.kiga-st-elisabeth-schweinfurt.de/event/fasching-im-kindergarten-schminktag/
END:VEVENT
BEGIN:VEVENT
DTSTART;TZID=Europe/Berlin:20260203T083000
DTEND;TZID=Europe/Berlin:20260203T113000
DTSTAMP:20260419T151655
CREATED:20250912T114452Z
LAST-MODIFIED:20250912T114452Z
UID:10000036-1770107400-1770118200@www.kiga-st-elisabeth-schweinfurt.de
SUMMARY:Blasiussegen im Kindergarten
DESCRIPTION:
URL:https://www.kiga-st-elisabeth-schweinfurt.de/event/blasiussegen-im-kindergarten/
END:VEVENT
BEGIN:VEVENT
DTSTART;TZID=Europe/Berlin:20260106T080000
DTEND;TZID=Europe/Berlin:20260106T170000
DTSTAMP:20260419T151655
CREATED:20250912T121813Z
LAST-MODIFIED:20250912T121813Z
UID:10000046-1767686400-1767718800@www.kiga-st-elisabeth-schweinfurt.de
SUMMARY:Heiligen drei Könige Feiertag - der Kindergarten ist geschlossen
DESCRIPTION:
URL:https://www.kiga-st-elisabeth-schweinfurt.de/event/heiligen-drei-koenige-feiertag-der-kindergarten-ist-geschlossen/
END:VEVENT
BEGIN:VEVENT
DTSTART;TZID=Europe/Berlin:20251222T000000
DTEND;TZID=Europe/Berlin:20260105T000000
DTSTAMP:20260419T151655
CREATED:20240925T101219Z
LAST-MODIFIED:20250911T112408Z
UID:10000012-1766361600-1767571200@www.kiga-st-elisabeth-schweinfurt.de
SUMMARY:Weihnachtsferien-Kindergarten geschlossen
DESCRIPTION:
URL:https://www.kiga-st-elisabeth-schweinfurt.de/event/weihnachtsferien/
END:VEVENT
BEGIN:VEVENT
DTSTART;TZID=Europe/Berlin:20251219T120000
DTEND;TZID=Europe/Berlin:20251219T170000
DTSTAMP:20260419T151655
CREATED:20250912T114022Z
LAST-MODIFIED:20250912T114022Z
UID:10000033-1766145600-1766163600@www.kiga-st-elisabeth-schweinfurt.de
SUMMARY:nach dem Weihnachtssingen schließt der Kindergarten um 12 Uhr
DESCRIPTION:
URL:https://www.kiga-st-elisabeth-schweinfurt.de/event/nach-dem-weihnachtssingen-schliesst-der-kindergarten-um-12-uhr/
END:VEVENT
BEGIN:VEVENT
DTSTART;TZID=Europe/Berlin:20251219T113000
DTEND;TZID=Europe/Berlin:20251219T120000
DTSTAMP:20260419T151655
CREATED:20240925T103324Z
LAST-MODIFIED:20250912T113857Z
UID:10000028-1766143800-1766145600@www.kiga-st-elisabeth-schweinfurt.de
SUMMARY:Weihnachtssingen mit Eltern
DESCRIPTION:
URL:https://www.kiga-st-elisabeth-schweinfurt.de/event/weihnachtssingen-mit-eltern/
END:VEVENT
BEGIN:VEVENT
DTSTART;TZID=Europe/Berlin:20251208T090000
DTEND;TZID=Europe/Berlin:20251208T120000
DTSTAMP:20260419T151655
CREATED:20240925T103232Z
LAST-MODIFIED:20250912T113754Z
UID:10000027-1765184400-1765195200@www.kiga-st-elisabeth-schweinfurt.de
SUMMARY:Der Nikolaus kommt
DESCRIPTION:
URL:https://www.kiga-st-elisabeth-schweinfurt.de/event/der-nikolaus-kommt/
LOCATION:Kindergarten St. Elisabeth
END:VEVENT
BEGIN:VEVENT
DTSTART;TZID=Europe/Berlin:20251128T090000
DTEND;TZID=Europe/Berlin:20251128T103000
DTSTAMP:20260419T151655
CREATED:20240925T102315Z
LAST-MODIFIED:20250912T113651Z
UID:10000018-1764320400-1764325800@www.kiga-st-elisabeth-schweinfurt.de
SUMMARY:Der Zahnarzt kommt
DESCRIPTION:
URL:https://www.kiga-st-elisabeth-schweinfurt.de/event/der-zahnarzt-kommt/
LOCATION:Kindergarten St. Elisabeth
END:VEVENT
BEGIN:VEVENT
DTSTART;TZID=Europe/Berlin:20251121T120000
DTEND;TZID=Europe/Berlin:20251121T160000
DTSTAMP:20260419T151655
CREATED:20240925T103144Z
LAST-MODIFIED:20250912T113530Z
UID:10000026-1763726400-1763740800@www.kiga-st-elisabeth-schweinfurt.de
SUMMARY:Adventsbasar im Kindergarten
DESCRIPTION:
URL:https://www.kiga-st-elisabeth-schweinfurt.de/event/adventsbasar/
LOCATION:Kindergarten St. Elisabeth
END:VEVENT
BEGIN:VEVENT
DTSTART;TZID=Europe/Berlin:20251119T140000
DTEND;TZID=Europe/Berlin:20251119T160000
DTSTAMP:20260419T151655
CREATED:20240925T103101Z
LAST-MODIFIED:20250912T113418Z
UID:10000025-1763560800-1763568000@www.kiga-st-elisabeth-schweinfurt.de
SUMMARY:Kränze binden
DESCRIPTION:
URL:https://www.kiga-st-elisabeth-schweinfurt.de/event/kraenze-binden-2/
END:VEVENT
BEGIN:VEVENT
DTSTART;TZID=Europe/Berlin:20251111T173000
DTEND;TZID=Europe/Berlin:20251111T190000
DTSTAMP:20260419T151655
CREATED:20250912T113238Z
LAST-MODIFIED:20250912T113238Z
UID:10000032-1762882200-1762887600@www.kiga-st-elisabeth-schweinfurt.de
SUMMARY:St. Martinsumzug
DESCRIPTION:
URL:https://www.kiga-st-elisabeth-schweinfurt.de/event/st-martinsumzug/
END:VEVENT
BEGIN:VEVENT
DTSTART;VALUE=DATE:20251031
DTEND;VALUE=DATE:20251101
DTSTAMP:20260419T151655
CREATED:20250911T112803Z
LAST-MODIFIED:20250911T112803Z
UID:10000031-1761868800-1761955199@www.kiga-st-elisabeth-schweinfurt.de
SUMMARY:Kindergarten geschlossen - pädagogische Teamarbeit
DESCRIPTION:
URL:https://www.kiga-st-elisabeth-schweinfurt.de/event/kindergarten-geschlossen-paedagogische-teamarbeit/
END:VEVENT
BEGIN:VEVENT
DTSTART;TZID=Europe/Berlin:20251029T140000
DTEND;TZID=Europe/Berlin:20251029T160000
DTSTAMP:20260419T151655
CREATED:20240925T102658Z
LAST-MODIFIED:20250912T112943Z
UID:10000020-1761746400-1761753600@www.kiga-st-elisabeth-schweinfurt.de
SUMMARY:Laternen basteln mit Kindern
DESCRIPTION:
URL:https://www.kiga-st-elisabeth-schweinfurt.de/event/laternen-basteln-mit-kindern/
LOCATION:Kindergarten St. Elisabeth
END:VEVENT
BEGIN:VEVENT
DTSTART;TZID=Europe/Berlin:20251028T140000
DTEND;TZID=Europe/Berlin:20251028T160000
DTSTAMP:20260419T151655
CREATED:20240925T102744Z
LAST-MODIFIED:20250912T112747Z
UID:10000021-1761660000-1761667200@www.kiga-st-elisabeth-schweinfurt.de
SUMMARY:Laternen basteln mit Kindern
DESCRIPTION:
URL:https://www.kiga-st-elisabeth-schweinfurt.de/event/laternen-basteln-mit-kindern-2/
LOCATION:Kindergarten St. Elisabeth
END:VEVENT
BEGIN:VEVENT
DTSTART;TZID=Europe/Berlin:20251023T140000
DTEND;TZID=Europe/Berlin:20251023T160000
DTSTAMP:20260419T151655
CREATED:20240925T102937Z
LAST-MODIFIED:20250912T112638Z
UID:10000023-1761228000-1761235200@www.kiga-st-elisabeth-schweinfurt.de
SUMMARY:Laternen basteln mit Kindern
DESCRIPTION:
URL:https://www.kiga-st-elisabeth-schweinfurt.de/event/laternen-basteln-mit-kinder/
END:VEVENT
BEGIN:VEVENT
DTSTART;TZID=Europe/Berlin:20251011T100000
DTEND;TZID=Europe/Berlin:20251011T140000
DTSTAMP:20260419T151655
CREATED:20240925T102221Z
LAST-MODIFIED:20250912T112538Z
UID:10000017-1760176800-1760191200@www.kiga-st-elisabeth-schweinfurt.de
SUMMARY:Gartenaktion
DESCRIPTION:
URL:https://www.kiga-st-elisabeth-schweinfurt.de/event/gartenaktion/
LOCATION:Kindergarten St. Elisabeth
END:VEVENT
BEGIN:VEVENT
DTSTART;TZID=Europe/Berlin:20251007T083000
DTEND;TZID=Europe/Berlin:20251010T120000
DTSTAMP:20260419T151655
CREATED:20240925T103419Z
LAST-MODIFIED:20250912T111609Z
UID:10000029-1759825800-1760097600@www.kiga-st-elisabeth-schweinfurt.de
SUMMARY:Naturtage der Großen
DESCRIPTION:
URL:https://www.kiga-st-elisabeth-schweinfurt.de/event/naturtage-der-grossen-2/
END:VEVENT
BEGIN:VEVENT
DTSTART;TZID=Europe/Berlin:20251006T103000
DTEND;TZID=Europe/Berlin:20251006T113000
DTSTAMP:20260419T151655
CREATED:20240925T101948Z
LAST-MODIFIED:20250912T112424Z
UID:10000014-1759746600-1759750200@www.kiga-st-elisabeth-schweinfurt.de
SUMMARY:Erntedank Gottesdienst
DESCRIPTION:
URL:https://www.kiga-st-elisabeth-schweinfurt.de/event/erntedank-gottesdienst/
LOCATION:Kindergarten St. Elisabeth
END:VEVENT
BEGIN:VEVENT
DTSTART;VALUE=DATE:20251003
DTEND;VALUE=DATE:20251004
DTSTAMP:20260419T151655
CREATED:20250912T114317Z
LAST-MODIFIED:20250912T121221Z
UID:10000035-1759449600-1759535999@www.kiga-st-elisabeth-schweinfurt.de
SUMMARY:Tag der deutschen Einheit Feiertag- der Kindergarten ist geschlossen
DESCRIPTION:
URL:https://www.kiga-st-elisabeth-schweinfurt.de/event/feiertag-der-kindergarten-ist-geschlossen-2/
END:VEVENT
BEGIN:VEVENT
DTSTART;TZID=Europe/Berlin:20250505T083000
DTEND;TZID=Europe/Berlin:20250508T120000
DTSTAMP:20260419T151655
CREATED:20240925T102528Z
LAST-MODIFIED:20250912T120117Z
UID:10000019-1746433800-1746705600@www.kiga-st-elisabeth-schweinfurt.de
SUMMARY:Naturtage der Großen
DESCRIPTION:
URL:https://www.kiga-st-elisabeth-schweinfurt.de/event/naturtage-der-grossen/
END:VEVENT
BEGIN:VEVENT
DTSTART;TZID=Europe/Berlin:20241114T140000
DTEND;TZID=Europe/Berlin:20241114T160000
DTSTAMP:20260419T151655
CREATED:20240925T103020Z
LAST-MODIFIED:20240925T103020Z
UID:10000024-1731592800-1731600000@www.kiga-st-elisabeth-schweinfurt.de
SUMMARY:Kränze binden
DESCRIPTION:
URL:https://www.kiga-st-elisabeth-schweinfurt.de/event/kraenze-binden/
END:VEVENT
BEGIN:VEVENT
DTSTART;TZID=Europe/Berlin:20241106T180000
DTEND;TZID=Europe/Berlin:20241106T200000
DTSTAMP:20260419T151655
CREATED:20240925T102841Z
LAST-MODIFIED:20240925T102841Z
UID:10000022-1730916000-1730923200@www.kiga-st-elisabeth-schweinfurt.de
SUMMARY:Laternen basteln ohne Kinder Wichtelgruppe und Zwergengruppe
DESCRIPTION:
URL:https://www.kiga-st-elisabeth-schweinfurt.de/event/laternen-basteln-ohne-kinder-wichtelgruppe-und-zwergengruppe/
END:VEVENT
BEGIN:VEVENT
DTSTART;TZID=Europe/Berlin:20241011T133000
DTEND;TZID=Europe/Berlin:20241011T153000
DTSTAMP:20260419T151655
CREATED:20240925T102130Z
LAST-MODIFIED:20240925T102141Z
UID:10000016-1728653400-1728660600@www.kiga-st-elisabeth-schweinfurt.de
SUMMARY:Weihnachtsbasar-Bastelnachmittag
DESCRIPTION:
URL:https://www.kiga-st-elisabeth-schweinfurt.de/event/weihnachtsbasar-bastelnachmittag-2/
LOCATION:Kindergarten St. Elisabeth
END:VEVENT
END:VCALENDAR